BEGIN:VCALENDAR
VERSION:2.0
PRODID:Events Booking
BEGIN:VEVENT
UID:69e76e4da0717
SUMMARY:Women in Song Concert
DESCRIPTION:Celebrate the power and beauty of women’s voices with the Wom
 en in Song show\, one night only!&nbsp\;
 &nbsp\;
 March 7\, 2025
 Meri
 dian Arts Centre\,&nbsp\;
 Co-presented by FabCollab and TO Live
 &nbsp\
 ;
 Enter the discount code FAB in the unlock area before choosing your se
 ats to get 20% off.&nbsp\;
 https://tolive.com/Event-Details-Page/referen
 ce/Women-In-Song-2025
 &nbsp\;
 Featuring three extraordinary singers:

  -The iconic Measha Brueggergosman-Lee\, known for her breathtaking presen
 ce and versatility&nbsp\;
 -Zeb Bangash\, the soulful Pakistani singer wh
 ose music bridges cultures and traditions
 -Tia Wood\, the captivating Ne
 hiyaw and Salish artist blending storytelling with stunning vocals.&nbsp\;
 
 &nbsp\;
 Flamenco\, Indigenous and Indonesian dancers along with a 9-p
 erson band complete the cast of this once in a lifetime show. See you ther
 e!&nbsp\;
 &nbsp\;
 #fabcollablive #womeninsong #womeninmusic #flamenco 
 #torontomusic #tolive #indigenouswomen #tiawood #zebbangash #measha&nbsp\;
DTSTART:20250307T050000Z
DTEND:20250307T050000Z
DTSTAMP:20250218T215231Z
ORGANIZER;CN=Women in Music:MAILTO:info@womeninmusic.ca
END:VEVENT
END:VCALENDAR