BEGIN:VCALENDAR
VERSION:2.0
PRODID:Events Booking
BEGIN:VEVENT
UID:69e7b24056de7
SUMMARY:WIM Mixer Nova Scotia Music Week
DESCRIPTION:
DTSTART:20241109T213000Z
DTEND:20241109T223000Z
DTSTAMP:20241028T225414Z
ORGANIZER;CN=Women in Music:MAILTO:info@womeninmusic.ca
END:VEVENT
END:VCALENDAR