BEGIN:VCALENDAR
VERSION:2.0
PRODID:Events Booking
BEGIN:VEVENT
UID:69e79b0239fbc
SUMMARY:WIM Canada State of the Industry Panel
DESCRIPTION:
 
 Moderated by Tasha Schumann (AKA Tasha the Amazon) the se
 ssion brings together industry experts and artists for a candid look at ho
 w Canadian musicians are adapting and thriving today.&nbsp\;The Canadian m
 usic landscape offers a unique set of opportunities and challenges for ind
 ependent artists\, but understanding where sustainable income truly lies i
 s a moving target. This Women in Music Canada&nbsp\;panel\, \"State of the
  Industry\,\" hosted virtually and open to all WIM Canada members\, dives 
 into the realities of making a living as a full-time artist in Canada. Fro
 m touring to funding&nbsp\;and royalties\, each panelist will shed light o
 n income sources that are critical for independent&nbsp\;artists. Particip
 ants will gain clarity on navigating the many revenue streams and learn mo
 re about how successful artists shape their goals in an industry that is e
 ver evolving.&nbsp\;
 Free for Women in Music Canada members and $5.00 fo
 r non members.&nbsp\;
 If you'd like to become a member please click here
 :&nbsp\;
 https://www.womeninmusic.ca/en/membership
 
 
 &nbsp\;
DTSTART:20241205T000000Z
DTEND:20241205T013000Z
DTSTAMP:20241120T035653Z
ORGANIZER;CN=Women in Music:MAILTO:info@womeninmusic.ca
END:VEVENT
END:VCALENDAR