BEGIN:VCALENDAR
VERSION:2.0
PRODID:Events Booking
BEGIN:VEVENT
UID:69e76a58e3b4b
SUMMARY:WIM Canada Honours Awards
DESCRIPTION:
DTSTART:20250306T050000Z
DTSTAMP:20241016T204920Z
ORGANIZER;CN=Women in Music:MAILTO:info@womeninmusic.ca
END:VEVENT
END:VCALENDAR