BEGIN:VCALENDAR
VERSION:2.0
PRODID:Events Booking
BEGIN:VEVENT
UID:69e782bf41e22
SUMMARY:Viva Sounds Sweden
DESCRIPTION:Gothenburg\, Sweden 2024 Music Festival and Conference
DTSTART:20241127T050000Z
DTEND:20241129T050000Z
DTSTAMP:20241016T203130Z
ORGANIZER;CN=Women in Music:MAILTO:info@womeninmusic.ca
END:VEVENT
END:VCALENDAR