BEGIN:VCALENDAR
VERSION:2.0
PRODID:Events Booking
BEGIN:VEVENT
UID:69e780e009b46
SUMMARY:Sample Show Event
DESCRIPTION:This is a sample description for a sample event.
DTSTART:20241005T000000Z
DTEND:20241005T033000Z
DTSTAMP:20240930T164220Z
ORGANIZER;CN=Women in Music:MAILTO:info@womeninmusic.ca
END:VEVENT
END:VCALENDAR