BEGIN:VCALENDAR
VERSION:2.0
PRODID:Events Booking
BEGIN:VEVENT
UID:69e76c02af618
SUMMARY:Negotiating Your Worth | International Women's Day Event - Edmonton
DESCRIPTION:
DTSTART:20250327T220000Z
DTSTAMP:20250324T212959Z
ORGANIZER;CN=Women in Music:MAILTO:info@womeninmusic.ca
END:VEVENT
END:VCALENDAR