BEGIN:VCALENDAR
VERSION:2.0
PRODID:Events Booking
BEGIN:VEVENT
UID:69e76a969b037
SUMMARY:International Women's Week Summit
DESCRIPTION:
DTSTART:20250304T050000Z
DTEND:20250305T050000Z
DTSTAMP:20241016T204956Z
ORGANIZER;CN=Women in Music:MAILTO:info@womeninmusic.ca
END:VEVENT
END:VCALENDAR