BEGIN:VCALENDAR
VERSION:2.0
PRODID:Events Booking
BEGIN:VEVENT
UID:69e76b847508c
SUMMARY:International Women's Day 
DESCRIPTION:
DTSTART:20250308T050000Z
DTSTAMP:20241016T205112Z
ORGANIZER;CN=Women in Music:MAILTO:info@womeninmusic.ca
END:VEVENT
END:VCALENDAR