BEGIN:VCALENDAR
VERSION:2.0
PRODID:Events Booking
BEGIN:VEVENT
UID:69e76b8cf193d
SUMMARY:HER (204) Album Release Party
DESCRIPTION:Celebrate the release of Her (204): Stories of One Great City R
 evisited. This groundbreaking compilation combines Manitoba’s most talen
 ted women and gender-diverse artists to reinterpret iconic songs from the 
 province's rich musical history. The album\, recorded during Winnipeg’s 
 150th anniversary\, features unforgettable performances by: TBAJoin us for
  an evening of powerful live music\, celebration\, and community at the Pa
 rk Theatre.Doors open at 7:00 p.m. | Show starts at 8:00 p.m.Album pre-ord
 ers will be available soon!
DTSTART:20250309T050000Z
DTEND:20250309T050000Z
DTSTAMP:20250130T014028Z
ORGANIZER;CN=Women in Music:MAILTO:info@womeninmusic.ca
END:VEVENT
END:VCALENDAR