BEGIN:VCALENDAR
VERSION:2.0
PRODID:Events Booking
BEGIN:VEVENT
UID:69e7820daeebf
SUMMARY:EQLIve Presented by SiriusXM Yukon 
DESCRIPTION:Begonia with Jasmine Netsena &amp\; Bria Rose N’ Thorns\, Wed
 nesday 30 October 2024\, 19:00
 Yukon Arts Centre Mainstage YAC Presents\
 , Yukon Arts Centre Mainstage
DTSTART:20241030T110000Z
DTSTAMP:20241016T202748Z
ORGANIZER;CN=Women in Music:MAILTO:info@womeninmusic.ca
END:VEVENT
END:VCALENDAR