BEGIN:VCALENDAR
VERSION:2.0
PRODID:Events Booking
BEGIN:VEVENT
UID:69e781da4361a
SUMMARY:EQLIve Presented by SiriusXM (Toronto)
DESCRIPTION:
DTSTART:20241220T050000Z
DTSTAMP:20241016T204843Z
ORGANIZER;CN=Women in Music:MAILTO:info@womeninmusic.ca
END:VEVENT
END:VCALENDAR