BEGIN:VCALENDAR
VERSION:2.0
PRODID:Events Booking
BEGIN:VEVENT
UID:69e781b611e65
SUMMARY:EQLive Presented by SiriusXM Ottawa
DESCRIPTION:Women in Music Canada presents: Savannah Re\, Witch Prophet and
  Silla
 Azrieli Studio 1 Eglin St\, Ottawa\, ON K1P 5W1
DTSTART:20241130T000000Z
DTSTAMP:20241016T203507Z
ORGANIZER;CN=Women in Music:MAILTO:info@womeninmusic.ca
END:VEVENT
END:VCALENDAR