BEGIN:VCALENDAR
VERSION:2.0
PRODID:Events Booking
BEGIN:VEVENT
UID:69e7819ba6f5f
SUMMARY:EQLive Presented by Sirius XM Calgary
DESCRIPTION:EQLIVE with Sacha\, Hailey Benedict\, Jade Turner\, and Ashley 
 Ghostkeeper
 Studio Bell\, home of the National Music Centre850 4 St SE\,
  Calgary
 Doors open 6:30pm MDT
DTSTART:20241019T113000Z
DTEND:20241019T143000Z
DTSTAMP:20241016T202312Z
ORGANIZER;CN=Women in Music:MAILTO:info@womeninmusic.ca
END:VEVENT
END:VCALENDAR